BEGIN:VCALENDAR
VERSION:2.0
PRODID:-//SAF - ECPv6.15.20//NONSGML v1.0//EN
CALSCALE:GREGORIAN
METHOD:PUBLISH
X-WR-CALNAME:SAF
X-ORIGINAL-URL:https://saf.is
X-WR-CALDESC:Events for SAF
REFRESH-INTERVAL;VALUE=DURATION:PT1H
X-Robots-Tag:noindex
X-PUBLISHED-TTL:PT1H
BEGIN:VTIMEZONE
TZID:UTC
BEGIN:STANDARD
TZOFFSETFROM:+0000
TZOFFSETTO:+0000
TZNAME:UTC
DTSTART:20250101T000000
END:STANDARD
END:VTIMEZONE
BEGIN:VEVENT
DTSTART;TZID=UTC:20260211T090000
DTEND;TZID=UTC:20260211T103000
DTSTAMP:20260421T085257
CREATED:20260211T123610Z
LAST-MODIFIED:20260211T125838Z
UID:10000008-1770800400-1770805800@saf.is
SUMMARY:Hvernig geta ferðaskrifstofur hagnýtt LinkedIn?
DESCRIPTION:Ferðaskrifstofunefnd SAF boðar til félagsfundar þar sem fjallað verður um notkun LinkedIn og hvernig ferðaskrifstofur geta nýtt miðilinn markvisst til að auka sýnileika\, styrkja ímynd sína og koma vöru og þjónustu betur á framfæri. \nLinkedIn er kjörinn vettvangur til þess að efla sýnileika fyrirtækja og greinarinnar. Á undanförnum árum hefur vettvangurinn orðið sífellt mikilvægari vettvangur fyrir fyrirtæki í ferðaþjónustu\, bæði þegar kemur að samskiptum við samstarfsaðila\, birgja og viðskiptavini\, sem og í uppbyggingu vörumerkis og miðlun þekkingar. Á fundinum verður farið yfir hagnýtar leiðir til að nýta miðilinn á skilvirkan hátt\, með áherslu á raunhæf dæmi og skýrar áherslur.Fundurinn fer fram miðvikudaginn 11. febrúar kl. 09:00 í Borgartúni 35. Fundinum verður jafnframt streymt fyrir þá félagsmenn sem ekki eiga heimangengt. \n\nGestur fundarins verður Steinar Þór Ólafsson\, sérfræðingur í samskiptum og miðlun hjá Samtökum fyrirtækja í sjávarútvegi (SFS) og einn eigenda Steinsmiðjunnar Rein. Steinar Þór mun fara yfir lykilatriði sem geta aukið stafrænan sýnileika fyrirtækja\, fjalla um markvissa miðlun og deila reynslu sinni af því hvernig fyrirtæki geta nýtt LinkedIn í daglegum rekstri og markaðssamskiptum. \nVið hvetjum félagsmenn til að taka þátt\, hvort sem er á staðnum eða í streymi\, og nýta tækifærið til að efla þekkingu innan síns fyrirtækis. Minnum einnig á að fundurinn er ekki eingöngu ætlaður stjórnendum og eigendum ferðaskrifstofa heldur einnig þeim sem sitja í sölu og markaðsteymum rekstraraðila.
URL:https://saf.is/vidburdur/felagsfundur-ferdaskrifstofunefndar-um-linkedin/
LOCATION:Hylur\, Borgartún 35\, Reykjavík\, 105\, Iceland
CATEGORIES:Fagnefndafundir,Félagsfundir,Fjarfundir
ATTACH;FMTTYPE=image/png:https://saf.is/wp-content/uploads/2026/02/Felagsfundur-ferdaskrifstofunefndar.png
END:VEVENT
END:VCALENDAR