BEGIN:VCALENDAR
VERSION:2.0
PRODID:-//SAF - ECPv6.15.20//NONSGML v1.0//EN
CALSCALE:GREGORIAN
METHOD:PUBLISH
X-ORIGINAL-URL:https://saf.is
X-WR-CALDESC:Events for SAF
REFRESH-INTERVAL;VALUE=DURATION:PT1H
X-Robots-Tag:noindex
X-PUBLISHED-TTL:PT1H
BEGIN:VTIMEZONE
TZID:UTC
BEGIN:STANDARD
TZOFFSETFROM:+0000
TZOFFSETTO:+0000
TZNAME:UTC
DTSTART:20250101T000000
END:STANDARD
END:VTIMEZONE
BEGIN:VEVENT
DTSTART;TZID=UTC:20260409T110000
DTEND;TZID=UTC:20260409T130000
DTSTAMP:20260421T050238
CREATED:20260407T091049Z
LAST-MODIFIED:20260407T091049Z
UID:10000016-1775732400-1775739600@saf.is
SUMMARY:Á öruggri leið? - Menntamorgunn ferðaþjónustunnar
DESCRIPTION:Hvernig stendur íslensk ferðaþjónusta sig í öryggismálum og hvaða tækifæri felast í því að byggja upp í „öruggasta land í heimi” fyrir ferðamenn?\nÁ þessum viðburði sameinum við raddir úr öllum hornum ferðaþjónustunnar og að utan til að horfa heildstætt á öryggi.\nVið skoðum hvað gengur vel\, hvar við getum gert betur og hvernig samvinna og samstillt átak getur eflt bæði öryggi og samkeppnishæfni. \nViðburðurinn fer fram á Hótel Kea\, Akureyri\, fimmtudaginn 9. apríl kl. 11:00–13:00\, en jafnframt verður hægt að fylgjast með í beinu streymi á Facebook. \nDagskrá: \n\nDagbjartur Brynjarsson\, sérfræðingur á sviði öryggismála hjá Ferðamálastofu\nGauti Þór Grétarsson\, öryggisstjóri hjá Samherja\nInga Björk Svavarsdóttir\, sölustjóri vetrarferða hjá Saga Travel\nGuðmundur Magnússon\, skíðagæslufulltrúi Hlíðarfjalli\nSólveig Nikulásdóttir\, sérfræðingur hjá Hæfnisetri ferðaþjónustunnar\nFundarstjóri: Viggó Jónsson framkvæmdastjóri Drangeyjarferða og stjórnarformaður Markaðsstofu Norðurlands.\n\nLétt hádegishressing í boði og pallborðsumræður stýrt af Ágústi Elvari Bjarnasyni\, verkefnastjóra hjá Samtökum ferðaþjónustunnar. \nFrítt er á viðburðinn fyrir fyrirtæki og hagaðila í ferðaþjónustu. \nMenntamorgnar ferðaþjónustunnar eru samstarfsverkefni Hæfniseturs ferðaþjónustunnar\, Samtaka ferðaþjónustunnar og Markaðsstofa landshlutanna \n  \nSkráning fer fram hér
URL:https://saf.is/vidburdur/a-oruggri-leid-menntamorgunn-ferdathjonustunnar/
CATEGORIES:Menntamorgnar
ATTACH;FMTTYPE=image/jpeg:https://saf.is/wp-content/uploads/2026/04/auglysing-full-staerd.jpg
ORGANIZER;CN="SAF":MAILTO:saf@saf.is
END:VEVENT
END:VCALENDAR