BEGIN:VCALENDAR
VERSION:2.0
PRODID:-//SAF - ECPv6.15.20//NONSGML v1.0//EN
CALSCALE:GREGORIAN
METHOD:PUBLISH
X-ORIGINAL-URL:https://saf.is
X-WR-CALDESC:Events for SAF
REFRESH-INTERVAL;VALUE=DURATION:PT1H
X-Robots-Tag:noindex
X-PUBLISHED-TTL:PT1H
BEGIN:VTIMEZONE
TZID:UTC
BEGIN:STANDARD
TZOFFSETFROM:+0000
TZOFFSETTO:+0000
TZNAME:UTC
DTSTART:20250101T000000
END:STANDARD
END:VTIMEZONE
BEGIN:VEVENT
DTSTART;VALUE=DATE:20260311
DTEND;VALUE=DATE:20260314
DTSTAMP:20260421T174520
CREATED:20260211T140138Z
LAST-MODIFIED:20260211T141923Z
UID:10000009-1773187200-1773446399@saf.is
SUMMARY:Samstarfsfundur Nordisk Besöksnäring
DESCRIPTION:Framkvæmdastjórar norrænna samtaka fyrirtækja í gisti- og veitingarekstri hittast reglulega yfir árið\, en samtökin fimm eru Visita í Svíþjóð\, Horesta í Danmörku\, NHO Reiseliv í Noregi\, MaRa í Finnlandi og SAF á Íslandi. \nÍ samstarfinu er m.a. skipst á upplýsingum um þróun í  kjaramálum\, lagasetningu og stjórnmálum á Norðurlöndum og bornar saman bækur um hvers konar málefni á vettvangi landanna fimm sem haft geta áhrif á rekstrarumhverfi ferðaþjónustufyrirtækja. Samtökin vinna einnig þétt saman á vettvangi Hotrec og halda sameiginlega utan um samanburðartölfræði um þróun gisti- og veitingarekstrar á Norðurlöndum. \nAð þessu sinni fer fundurinn fram í Ruka í Finnlandi.
URL:https://saf.is/vidburdur/samstarfsfundur-nordisk-besoksnaring/
LOCATION:Ruka\, Finland
CATEGORIES:Erlent samstarf
ATTACH;FMTTYPE=image/png:https://saf.is/wp-content/uploads/2026/02/SAF.is-Event-Calendar-myndir-1.png
END:VEVENT
BEGIN:VEVENT
DTSTART;VALUE=DATE:20260312
DTEND;VALUE=DATE:20260313
DTSTAMP:20260421T174520
CREATED:20260224T115235Z
LAST-MODIFIED:20260225T100208Z
UID:10000015-1773273600-1773359999@saf.is
SUMMARY:Framboðsfrestur til stjórnar
DESCRIPTION:Á aðalfundi SAF sem fer fram 26. mars 2026 verður kosið til stjórnar samtakanna. Framboð skulu hafa borist kjörnefnd skriflega eða rafrænt 14 dögum fyrir aðalfund\, eða fimmtudaginn 12. mars 2026. \nNánari upplýsingar má finna í frétt á vef SAF: \n\nKjörnefnd auglýsir eftir framboðum til formanns og stjórnar SAF á aðalfundi 2026\n\n  \nHægt er að hafa samband við skrifstofu SAF ef spurningar vakna.
URL:https://saf.is/vidburdur/frambodsfrestur-til-stjornar/
CATEGORIES:Aðalfundur
ATTACH;FMTTYPE=image/png:https://saf.is/wp-content/uploads/2026/02/SAF.is-Event-Calendar-myndir.png
ORGANIZER;CN="SAF":MAILTO:saf@saf.is
END:VEVENT
BEGIN:VEVENT
DTSTART;VALUE=DATE:20260323
DTEND;VALUE=DATE:20260324
DTSTAMP:20260421T174520
CREATED:20260218T120952Z
LAST-MODIFIED:20260320T115227Z
UID:10000014-1774224000-1774310399@saf.is
SUMMARY:Framboðsfrestur til fagnefnda
DESCRIPTION:Á faghópafundum aðalfundar SAF sem fer fram 26. mars 2026 verður kosið í fagnefndir samtakanna. Smellið hér til að lesa nánar um starfsemi fagnefnda. \nHér fyrir neðan er skráningarform fyrir framboð í fagnefndir Samtaka ferðaþjónustunnar fyrir starfsárið 2026-2027. \nFramboðsfrestur rennur út á hádegi mánudaginn 23. mars. \nRétt er að geta þess að einungis er hægt að skila inn framboði í eina fagnefnd. \nHægt er að hafa samband við skrifstofu SAF ef spurningar vakna. \nSmelltu á Skráning⬇️ hér fyrir neðan til að skrá framboð í fagnefnd:
URL:https://saf.is/vidburdur/frambodsfrestur-til-fagnefnda/
CATEGORIES:Aðalfundur,Fagnefndafundir
ATTACH;FMTTYPE=image/png:https://saf.is/wp-content/uploads/2026/02/SAF.is-Event-Calendar-myndir-2.png
ORGANIZER;CN="SAF":MAILTO:saf@saf.is
END:VEVENT
BEGIN:VEVENT
DTSTART;TZID=UTC:20260326T100000
DTEND;TZID=UTC:20260326T170000
DTSTAMP:20260421T174520
CREATED:20260206T120019Z
LAST-MODIFIED:20260325T091035Z
UID:10000002-1774519200-1774544400@saf.is
SUMMARY:Aðalfundur SAF 2026
DESCRIPTION:Aðalfundur SAF 2026\nAðalfundur Samtaka ferðaþjónustunnar 2026 fer fram fimmtudaginn 26. mars á Hilton Reykjavík Nordica. Faghópafundir aðalfundar verða haldnir fyrir hádegi og formlegur aðalfundur fer fram eftir hádegishlé\, skv. venju. \n9.00-10.00 Heitt á könnunni og afhending fundargagna\n10.00-12.00 Faghópafundir\n12.00-13.00 Hádegisverður\n13.00-13.45 Samtal um ferðaþjónustu\n14.00-16.00 Aðalfundur\n16.00-17.30 Netagerð \nNánari upplýsingar má finna hér. \nFundargjald er 7.500 kr. Innifalið er aðgangur að fundum og veitingar á meðan fundi stendur. Greiðsluseðill verður sendur út að viðburði loknum. \nSkráðu þig á aðalfund SAF 2026 hér ⬇️\n 
URL:https://saf.is/vidburdur/adalfundur-saf-2026/
LOCATION:Hilton Reykjavík Nordica\, Suðurlandsbraut 2\, Reykjavík\, 108\, Iceland
CATEGORIES:Aðalfundur
ATTACH;FMTTYPE=image/png:https://saf.is/wp-content/uploads/2026/02/SAF.is-Event-Calendar-myndir-1-1.png
ORGANIZER;CN="SAF":MAILTO:saf@saf.is
END:VEVENT
BEGIN:VEVENT
DTSTART;TZID=UTC:20260409T110000
DTEND;TZID=UTC:20260409T130000
DTSTAMP:20260421T174520
CREATED:20260407T091049Z
LAST-MODIFIED:20260407T091049Z
UID:10000016-1775732400-1775739600@saf.is
SUMMARY:Á öruggri leið? - Menntamorgunn ferðaþjónustunnar
DESCRIPTION:Hvernig stendur íslensk ferðaþjónusta sig í öryggismálum og hvaða tækifæri felast í því að byggja upp í „öruggasta land í heimi” fyrir ferðamenn?\nÁ þessum viðburði sameinum við raddir úr öllum hornum ferðaþjónustunnar og að utan til að horfa heildstætt á öryggi.\nVið skoðum hvað gengur vel\, hvar við getum gert betur og hvernig samvinna og samstillt átak getur eflt bæði öryggi og samkeppnishæfni. \nViðburðurinn fer fram á Hótel Kea\, Akureyri\, fimmtudaginn 9. apríl kl. 11:00–13:00\, en jafnframt verður hægt að fylgjast með í beinu streymi á Facebook. \nDagskrá: \n\nDagbjartur Brynjarsson\, sérfræðingur á sviði öryggismála hjá Ferðamálastofu\nGauti Þór Grétarsson\, öryggisstjóri hjá Samherja\nInga Björk Svavarsdóttir\, sölustjóri vetrarferða hjá Saga Travel\nGuðmundur Magnússon\, skíðagæslufulltrúi Hlíðarfjalli\nSólveig Nikulásdóttir\, sérfræðingur hjá Hæfnisetri ferðaþjónustunnar\nFundarstjóri: Viggó Jónsson framkvæmdastjóri Drangeyjarferða og stjórnarformaður Markaðsstofu Norðurlands.\n\nLétt hádegishressing í boði og pallborðsumræður stýrt af Ágústi Elvari Bjarnasyni\, verkefnastjóra hjá Samtökum ferðaþjónustunnar. \nFrítt er á viðburðinn fyrir fyrirtæki og hagaðila í ferðaþjónustu. \nMenntamorgnar ferðaþjónustunnar eru samstarfsverkefni Hæfniseturs ferðaþjónustunnar\, Samtaka ferðaþjónustunnar og Markaðsstofa landshlutanna \n  \nSkráning fer fram hér
URL:https://saf.is/vidburdur/a-oruggri-leid-menntamorgunn-ferdathjonustunnar/
CATEGORIES:Menntamorgnar
ATTACH;FMTTYPE=image/jpeg:https://saf.is/wp-content/uploads/2026/04/auglysing-full-staerd.jpg
ORGANIZER;CN="SAF":MAILTO:saf@saf.is
END:VEVENT
BEGIN:VEVENT
DTSTART;VALUE=DATE:20260420
DTEND;VALUE=DATE:20260423
DTSTAMP:20260421T174520
CREATED:20260210T113742Z
LAST-MODIFIED:20260210T114411Z
UID:10000003-1776643200-1776902399@saf.is
SUMMARY:Vorþing HOTREC
DESCRIPTION:Vorþing Hotrec\, sambands hótel- og veitingasamtaka í Evrópu\, fer fram í Cork á Írlandi dagana 20.-22. apríl. \nÁ þinginu verður m.a. fjallað um samkeppnisáskoranir í gisti- og veitingarekstri\, mál í umfjöllun Evrópukerfisins og hópmálsókn hótela gegn Booking.com. \nSAF eru aðili að Hotrec og taka þátt í þingum samtakanna tvisvar á ári\, auk nefndastarfs og funda um einstök málefni er varða ferðaþjónusturekstur í álfunni og löggjöf á vettvangi Evrópusambandsins sem hefur áhrif á rekstrarumhverfi íslenskra fyrirtækja.
URL:https://saf.is/vidburdur/vorthing-hotrec/
LOCATION:Cork\, Ireland
CATEGORIES:Erlent samstarf
ATTACH;FMTTYPE=image/png:https://saf.is/wp-content/uploads/2026/02/Skjamynd-2026-02-10-112920.png
END:VEVENT
BEGIN:VEVENT
DTSTART;TZID=UTC:20260421T140000
DTEND;TZID=UTC:20260421T153000
DTSTAMP:20260421T174520
CREATED:20260407T135248Z
LAST-MODIFIED:20260407T135248Z
UID:10000017-1776780000-1776785400@saf.is
SUMMARY:Dagur Ábyrgrar ferðaþjónustu
DESCRIPTION:Þann 21. apríl kl. 14:00 verður Dagur ábyrgrar ferðaþjónustu haldinn í hátíðarsal Grósku. Viðburðurinn er vettvangur til að staldra við\, horfa yfir farinn veg og ræða hvert við viljum stefna í þróun ferðaþjónustu á Íslandi. \n👉 Skráning á viðburðinn \nUndanfarin ár hefur mikil vinna verið lögð í að efla ábyrga ferðaþjónustu – með aukinni vitund\, skýrari viðmiðum og sterkari samvinnu innan greinarinnar. Nú er komið að næsta kafla: að byggja á þessum grunni og móta framtíð sem einkennist af sjálfbærni\, nýsköpun og raunverulegri ábyrgð gagnvart náttúru\, samfélagi og gestum. \nÁ dagskrá verða fjölbreytt og lifandi samtöl þar sem rödd greinarinnar fær að heyrast. Við fáum innsýn frá aðilum innan ferðaþjónustunnar\, sem deila reynslu sinni og sýn á framtíðina. Einnig verður sérstakt samtal við forseta Íslands\, Höllu Tómasdóttur\, þar sem ábyrg ferðaþjónusta verður rædd í stærra samhengi samfélags og framtíðar. \nHápunktur dagsins verður afhending hvatningaverðlauna til framúrskarandi fyrirtækis í ábyrgri ferðaþjónustu. Verðlaunin eru veitt til að vekja athygli á góðum fyrirmyndum og hvetja til áframhaldandi framfara í greininni. \nOpið er fyrir tilnefningar til hvatningaverðlaunanna\, og hvetjum við öll til að senda inn tillögur að fyrirtækjum sem hafa skarað fram úr í ábyrgum rekstri. \n👉 Senda inn tilnefningu \nVið hlökkum til að sjá ykkur í Grósku þar sem við ræðum stöðuna\, deilum reynslu og mótum saman næstu skref í átt að enn ábyrgari ferðaþjónustu.
URL:https://saf.is/vidburdur/dagur-abyrgrar-ferdathjonustu/
LOCATION:Gróska\, Bjargargata 1\, Reykjavík\, 102\, Iceland
ATTACH;FMTTYPE=image/png:https://saf.is/wp-content/uploads/2026/04/1920x1080.png
ORGANIZER;CN="SAF":MAILTO:saf@saf.is
END:VEVENT
BEGIN:VEVENT
DTSTART;VALUE=DATE:20261012
DTEND;VALUE=DATE:20261015
DTSTAMP:20260421T174520
CREATED:20260210T114348Z
LAST-MODIFIED:20260210T114348Z
UID:10000004-1791763200-1792022399@saf.is
SUMMARY:Haustþing HOTREC
DESCRIPTION:Haustþing Hotrec\, sambands hótel- og veitingasamtaka í Evrópu\, fer fram í Vilnius Í Litháen dagana 12.-14. október. \nÁ þinginu verður m.a. fjallað um samkeppnisáskoranir í gisti- og veitingarekstri\, mál í umfjöllun Evrópukerfisins og hópmálsókn hótela gegn Booking.com. \nSAF eru aðili að Hotrec og taka þátt í þingum samtakanna tvisvar á ári\, auk nefndastarfs og funda um einstök málefni er varða ferðaþjónusturekstur í álfunni og löggjöf á vettvangi Evrópusambandsins sem hefur áhrif á rekstrarumhverfi íslenskra fyrirtækja.
URL:https://saf.is/vidburdur/haustthing-hotrec/
LOCATION:Vilnius\, Lithuania
CATEGORIES:Erlent samstarf
ATTACH;FMTTYPE=image/png:https://saf.is/wp-content/uploads/2026/02/Skjamynd-2026-02-10-112920.png
END:VEVENT
END:VCALENDAR