BEGIN:VCALENDAR
VERSION:2.0
PRODID:-//SAF - ECPv6.15.20//NONSGML v1.0//EN
CALSCALE:GREGORIAN
METHOD:PUBLISH
X-ORIGINAL-URL:https://saf.is
X-WR-CALDESC:Events for SAF
REFRESH-INTERVAL;VALUE=DURATION:PT1H
X-Robots-Tag:noindex
X-PUBLISHED-TTL:PT1H
BEGIN:VTIMEZONE
TZID:UTC
BEGIN:STANDARD
TZOFFSETFROM:+0000
TZOFFSETTO:+0000
TZNAME:UTC
DTSTART:20240101T000000
END:STANDARD
END:VTIMEZONE
BEGIN:VEVENT
DTSTART;VALUE=DATE:20260312
DTEND;VALUE=DATE:20260313
DTSTAMP:20260421T115822
CREATED:20260224T115235Z
LAST-MODIFIED:20260225T100208Z
UID:10000015-1773273600-1773359999@saf.is
SUMMARY:Framboðsfrestur til stjórnar
DESCRIPTION:Á aðalfundi SAF sem fer fram 26. mars 2026 verður kosið til stjórnar samtakanna. Framboð skulu hafa borist kjörnefnd skriflega eða rafrænt 14 dögum fyrir aðalfund\, eða fimmtudaginn 12. mars 2026. \nNánari upplýsingar má finna í frétt á vef SAF: \n\nKjörnefnd auglýsir eftir framboðum til formanns og stjórnar SAF á aðalfundi 2026\n\n  \nHægt er að hafa samband við skrifstofu SAF ef spurningar vakna.
URL:https://saf.is/vidburdur/frambodsfrestur-til-stjornar/
CATEGORIES:Aðalfundur
ATTACH;FMTTYPE=image/png:https://saf.is/wp-content/uploads/2026/02/SAF.is-Event-Calendar-myndir.png
ORGANIZER;CN="SAF":MAILTO:saf@saf.is
END:VEVENT
BEGIN:VEVENT
DTSTART;VALUE=DATE:20260311
DTEND;VALUE=DATE:20260314
DTSTAMP:20260421T115822
CREATED:20260211T140138Z
LAST-MODIFIED:20260211T141923Z
UID:10000009-1773187200-1773446399@saf.is
SUMMARY:Samstarfsfundur Nordisk Besöksnäring
DESCRIPTION:Framkvæmdastjórar norrænna samtaka fyrirtækja í gisti- og veitingarekstri hittast reglulega yfir árið\, en samtökin fimm eru Visita í Svíþjóð\, Horesta í Danmörku\, NHO Reiseliv í Noregi\, MaRa í Finnlandi og SAF á Íslandi. \nÍ samstarfinu er m.a. skipst á upplýsingum um þróun í  kjaramálum\, lagasetningu og stjórnmálum á Norðurlöndum og bornar saman bækur um hvers konar málefni á vettvangi landanna fimm sem haft geta áhrif á rekstrarumhverfi ferðaþjónustufyrirtækja. Samtökin vinna einnig þétt saman á vettvangi Hotrec og halda sameiginlega utan um samanburðartölfræði um þróun gisti- og veitingarekstrar á Norðurlöndum. \nAð þessu sinni fer fundurinn fram í Ruka í Finnlandi.
URL:https://saf.is/vidburdur/samstarfsfundur-nordisk-besoksnaring/
LOCATION:Ruka\, Finland
CATEGORIES:Erlent samstarf
ATTACH;FMTTYPE=image/png:https://saf.is/wp-content/uploads/2026/02/SAF.is-Event-Calendar-myndir-1.png
END:VEVENT
BEGIN:VEVENT
DTSTART;TZID=UTC:20260217T110000
DTEND;TZID=UTC:20260217T110000
DTSTAMP:20260421T115822
CREATED:20260216T104440Z
LAST-MODIFIED:20260216T110713Z
UID:10000012-1771326000-1771326000@saf.is
SUMMARY:Menntamorgunn: Gesturinn í aðalhlutverki
DESCRIPTION:Hvernig upplifa gestir „gæði“ í dag og hvernig er hægt að endurspegla það í daglegu verklagi? Hvað skiptir þá mestu máli þegar kemur að upplýsingum\, væntingum og þjónustu? \nÞessum spurningum verður svarað á næsta Menntamorgni ferðaþjónustunnar sem ber yfirskriftina „Gesturinn í aðalhlutverki“ og fer fram þriðjudaginn 17. febrúar kl. 11:00 – 12:00 í beinu streymi á Facebook síðu Hæfniseturs ferðaþjónustunnar.\nÁ fundinum rýnum við í hvernig skýrar upplýsingar\, samræmd gæði og stöðug áreiðanleg þjónusta skapa trausta upplifun sem gestir treysta. Fjallað verður um hvernig ferðaþjónustuaðilar geta styrkt samkeppnishæfni sína með því að endurspegla þarfir gesta í verkferlum\, menningu og þjálfun starfsfólks. \nViðburðurinn er haldinn í samstarfi Hæfniseturs ferðaþjónustunnar\, Samtaka ferðaþjónustunnar og Markaðsstofa landshlutanna\, er öllum opinn og aðgengilegur í streymi. \nAð þessu sinni fáum við til okkar frábæra fyrirlesara úr ólíkum áttum ferðaþjónustu og atvinnulífs\, en það eru meðal annars þau: \nSkrokkur í sæti?\n-Júlíus Freyr Theodórsson\, leiðsögumaður \nMikilvægi þjónustuveitingar: frá sjúklingi til tæknistjóra\n– Hildur Einarsdóttir\, forstjóri Advania á Íslandi\n \nSpegill\, Spegill: hvernig endurspeglum við þarfir gesta okkar í gæðaþjónustu?\n– Ólína Laxdal\, sérfræðingur hjá Hæfnisetri ferðaþjónustunnar \nFundarstjóri er Þuríður H. Aradóttir Braun\, forstöðukona Markaðsstofu Reykjaness \nSkráning hér: https://haefni.is/til-thjonustu-reidubuin/
URL:https://saf.is/vidburdur/menntamorgunn-gesturinn-i-adalhlutverki/
CATEGORIES:Menntamorgnar
ATTACH;FMTTYPE=image/webp:https://saf.is/wp-content/uploads/2026/02/Menntamorgun-november-2.jpg.webp
ORGANIZER;CN="SAF":MAILTO:saf@saf.is
LOCATION:https://saf.is/vidburdur/menntamorgunn-gesturinn-i-adalhlutverki/
END:VEVENT
BEGIN:VEVENT
DTSTART;TZID=UTC:20260211T090000
DTEND;TZID=UTC:20260211T103000
DTSTAMP:20260421T115822
CREATED:20260211T123610Z
LAST-MODIFIED:20260211T125838Z
UID:10000008-1770800400-1770805800@saf.is
SUMMARY:Hvernig geta ferðaskrifstofur hagnýtt LinkedIn?
DESCRIPTION:Ferðaskrifstofunefnd SAF boðar til félagsfundar þar sem fjallað verður um notkun LinkedIn og hvernig ferðaskrifstofur geta nýtt miðilinn markvisst til að auka sýnileika\, styrkja ímynd sína og koma vöru og þjónustu betur á framfæri. \nLinkedIn er kjörinn vettvangur til þess að efla sýnileika fyrirtækja og greinarinnar. Á undanförnum árum hefur vettvangurinn orðið sífellt mikilvægari vettvangur fyrir fyrirtæki í ferðaþjónustu\, bæði þegar kemur að samskiptum við samstarfsaðila\, birgja og viðskiptavini\, sem og í uppbyggingu vörumerkis og miðlun þekkingar. Á fundinum verður farið yfir hagnýtar leiðir til að nýta miðilinn á skilvirkan hátt\, með áherslu á raunhæf dæmi og skýrar áherslur.Fundurinn fer fram miðvikudaginn 11. febrúar kl. 09:00 í Borgartúni 35. Fundinum verður jafnframt streymt fyrir þá félagsmenn sem ekki eiga heimangengt. \n\nGestur fundarins verður Steinar Þór Ólafsson\, sérfræðingur í samskiptum og miðlun hjá Samtökum fyrirtækja í sjávarútvegi (SFS) og einn eigenda Steinsmiðjunnar Rein. Steinar Þór mun fara yfir lykilatriði sem geta aukið stafrænan sýnileika fyrirtækja\, fjalla um markvissa miðlun og deila reynslu sinni af því hvernig fyrirtæki geta nýtt LinkedIn í daglegum rekstri og markaðssamskiptum. \nVið hvetjum félagsmenn til að taka þátt\, hvort sem er á staðnum eða í streymi\, og nýta tækifærið til að efla þekkingu innan síns fyrirtækis. Minnum einnig á að fundurinn er ekki eingöngu ætlaður stjórnendum og eigendum ferðaskrifstofa heldur einnig þeim sem sitja í sölu og markaðsteymum rekstraraðila.
URL:https://saf.is/vidburdur/felagsfundur-ferdaskrifstofunefndar-um-linkedin/
LOCATION:Hylur\, Borgartún 35\, Reykjavík\, 105\, Iceland
CATEGORIES:Fagnefndafundir,Félagsfundir,Fjarfundir
ATTACH;FMTTYPE=image/png:https://saf.is/wp-content/uploads/2026/02/Felagsfundur-ferdaskrifstofunefndar.png
END:VEVENT
BEGIN:VEVENT
DTSTART;TZID=UTC:20260113T143000
DTEND;TZID=UTC:20260113T160000
DTSTAMP:20260421T115822
CREATED:20260210T115905Z
LAST-MODIFIED:20260210T120202Z
UID:10000006-1768314600-1768320000@saf.is
SUMMARY:Nýársmálstofa SAF\, Íslenska ferðaklasans og KPMG
DESCRIPTION:Nýársmálstofa SAF\, Íslenska ferðaklasans og KPMG verður haldin kl. 14:30 þriðjudaginn 13. janúar 2026 við opnun ferðaþjónustuvikunnar.\n\nSkráningar á þennan viðburð hafa heldur betur farið fram úr björtustu vonum og því munum við sitja þétt saman\, og snúa bökum saman! Því hvað er betra í upphafi árs.\nDagskráin hefst stundvíslega kl 14:30 og mikilvægt að mæta tímanlega uppá allt skipulag. Viðburðurinn verður aðgengilegur í upptöku gegnum Teams fyrir þá sem ekki komast á staðinn.\n\nDagskrá Nýársmálstofunnar:\n• Stjórnarformaður KPMG\, Magnús Gunnar Erlendsson\, opnar viðburðinn• Atvinnuvegaráðherra\, Hanna Katrín Friðriksson – opnunarávarp og formleg setning Ferðaþjónustuvikunnar• Niðurstöður árlegrar könnunar meðal ferðaþjónustuaðila – Sævar Kristinsson fer yfir helstu niðurstöður• Framtíð ferðaþjónustu árið 2040 – sviðsmyndir og kristalkúlan – fjórir reynsluboltar rýna í stöðuna:– Hildur Kristjánsdóttir meðeigandi hjá Midgard Adventure– Stefán Gunnarsson framkvæmdastjóri hjá Guðmundi Jónssyni / GJ Travel– Hrönn Greipsdóttir forstjóri hjá Nýsköpunarsjóði Atvinnulífsins– Magnús Orri Schram framkvæmdastjóri áfangastaða þróunar og nýsköpunar hjá Bláa lóninu• Stuttar og snarpar umræður við frummælendur• Léttar veitingar í lok málstofu í boði KPMG \n\nNýársmálstofan er orðin mikilvægur vettvangur aðila í ferðaþjónustu til að stilla saman strengi í upphafi árs ásamt því að vera formlegt upphaf Ferðaþjónustuvikunnar.
URL:https://saf.is/vidburdur/nyarsmalstofa-saf-islenska-ferdaklasans-og-kpmg/
LOCATION:KPMG\, Borgartún 27\, Reykjavík\, 105\, Iceland
CATEGORIES:Ferðaþjónustuvikan,Nýársmálstofa,Samstarfsviðburðir
ATTACH;FMTTYPE=image/jpeg:https://saf.is/wp-content/uploads/2026/02/Nyarsmalstofa.jpg
ORGANIZER;CN="SAF":MAILTO:saf@saf.is
END:VEVENT
BEGIN:VEVENT
DTSTART;TZID=UTC:20260113T120000
DTEND;TZID=UTC:20260113T133000
DTSTAMP:20260421T115822
CREATED:20260210T115331Z
LAST-MODIFIED:20260210T115331Z
UID:10000005-1768305600-1768311000@saf.is
SUMMARY:Hádegishittingur - Konur í ferðaþjónustu
DESCRIPTION:Konur í ferðaþjónustu hittast í ferðaþjónustuvikunni\nKonur í ferðaþjónustu bjóða til hittings í hádeginu þann 13. janúar. Að þessu sinni bjóða Íslandshótel heim á Foshótel Reykjavík. \nÁ viðburðinum mun María Rut Ágústsdóttir\, verkefnastjóri hjá SAF\, kynna verkefnið Konur í ferðaþjónustu\, og Erna Dís Ingólfsdóttir\, framkvæmdastjóri mannauðs- og gæðasviðs hjá Íslandshótelum veita innsýn í sögu og starfsemi fyrirtækisins\, auk þess að deila sinni vegferð í störfum í atvinnugreininni. \nVið hvetjum konur í ferðaþjónustu til að skrá sig á póstlista verkefnisins og fylgjast með komandi viðburðum.
URL:https://saf.is/vidburdur/hadegishittingur-konur-i-ferdathjonustu/
LOCATION:Fosshótel Reykjavík\, Þórunnartún 1\, Reykjavík\, 105\, Iceland
CATEGORIES:Konur í ferðaþjónustu
ATTACH;FMTTYPE=image/jpeg:https://saf.is/wp-content/uploads/2026/01/B93A8737-1-scaled.jpg
ORGANIZER;CN="SAF":MAILTO:saf@saf.is
END:VEVENT
BEGIN:VEVENT
DTSTART;TZID=UTC:20251211T090000
DTEND;TZID=UTC:20251211T110000
DTSTAMP:20260421T115822
CREATED:20260210T121106Z
LAST-MODIFIED:20260211T172205Z
UID:10000007-1765443600-1765450800@saf.is
SUMMARY:Skattspor ferðaþjónustunnar 2024
DESCRIPTION:Hvert er framlag atvinnugreinarinnar til samfélagsins?\nSkattspor ferðaþjónustunnar fyrir árið 2024 verður kynnt á morgunfundi fimmtudaginn 11. desember 2025. Fundurinn fer fram í Sjálfstæðissalnum við Austurvöll og hefst kl. 9.00. Húsið opnar kl. 8.30 – boðið verður upp á morgunhressingu. \nSkýrslu Reykjavík Economics um skattspor ferðaþjónustunnar má nálgast hér. \nFlutt verða ávörp ásamt því að skýrsla sem Reykjavík Economics hefur unnið fyrir SAF verður kynnt. Þá fara fram umræður um skattspor ferðaþjónustunnar og hvert raunverulegt framlag greinarinnar er til samfélagsins. \nFram koma: \n\nDaði Már Kristófersson\, fjármála- og efnahagsráðherra\nMagnús Á. Skúlason\, framkvæmdastjóri Reykjavík Economics\nSigríður Margrét Oddsdóttir\, framkvæmdastjóri SA\nSteingrímur Birgisson\, forstjóri Hölds – Bílaleigu Akureyrar\nÞóra Eggertsdóttir\, framkvæmdastjóri fjármála Icelandia\n\nPétur Óskarsson\, formaður SAF\, stýrir fundinum og Jóhannes Þór Skúlason\, framkvæmdastjóri SAF\, leiðir umræður. \nFundurinn er haldinn í samstarfi Samtaka atvinnulífsins og Samtaka ferðaþjónustunnar. \n 
URL:https://saf.is/vidburdur/skattspor-ferdathjonustunnar-2024/
LOCATION:Sjálfsstæðissalurinn við Austurvöll\, Thorvaldsenstræti 2-6\, Reykjavík\, 101\, Iceland
CATEGORIES:Samstarfsviðburðir,Skattspor ferðaþjónustunnar
ATTACH;FMTTYPE=image/png:https://saf.is/wp-content/uploads/2025/12/Event-cover.png
ORGANIZER;CN="SAF":MAILTO:saf@saf.is
END:VEVENT
END:VCALENDAR